BEGIN:VCALENDAR
VERSION:2.0
PRODID:-//wp-events-plugin.com//6.6.4.4//EN
TZID:Europe/Berlin
X-WR-TIMEZONE:Europe/Berlin
BEGIN:VEVENT
UID:124@in.cosyland.org
DTSTART:20241126T160000Z
DTEND:20241126T190000Z
DTSTAMP:20241106T155721Z
URL:https://in.cosyland.org/events/la-memoria-de-la-lengua/
SUMMARY:La Memoria de la Lengua / Taller
DESCRIPTION:Workshop held in Spanish.\n\nTickets / Registration: https://ww
 w.eventbrite.com/e/la-memoria-de-la-lengua-taller-colaborativo-tickets-106
 4981471249?aff=oddtdtcreator\n\n\nLa Memoria de la Lengua / Taller Colabor
 ativo\n\n\n\n\nRitual de cocina en base al recuerdo\, donde prepararemos u
 na receta en conjunto a partir de la memoria sensorial y compartiremos viv
 encias.\n\n\n\n\n\nAcompáñanos a preparar un plato de comida\na partir d
 e la memoria de la lengua\,\nel aroma de los ingredientes\ny sus condiment
 os\,\nel recuerdo visual que guardamos\nde ese momento en que lo probamos.
 \n\nHay platos que me prepararon otrxs\,\nplatos que nunca volveré a prob
 ar\;\nesa mezcla de sabores y texturas se fue con ellxs.\n\nQue este encue
 ntro haga de rito\npara traer de vuelta esa receta\,\ncomo recuerdo sensor
 ial\,\nal acto presente.\n\nEn este taller colaborativo guiado por Costanz
 a @ruina_nueva y Florencia @ohneberlin prepararemos una receta a partir de
  la memoria sensorial\, compartiremos vivencias y comeremos en conjunto\, 
 trayendo de vuelta los sabores que habitan nuestros recuerdos.\n\n\n\n\n\n
 \nNuestra ofrenda...\n\n 	Traer ritual al acto cotidiano de comer y sentar
 se a la mesa\n 	Darle lugar a los sentimientos que envuelven nuestros recu
 erdos culinarios\n 	Brindar un espacio comunitario seguro\, de reflexión 
 y goce\n\n\n\n
ATTACH;FMTTYPE=image/jpeg:https://in.cosyland.org/wp-content/uploads/2024/
 08/la-memoria-de-la-lengua-flyer-26.11-13-OK.jpg
CATEGORIES:Food,Workshop
LOCATION:Moos Space\, Moosdorfstraße 7-9\, Berlin\, 12435\, Germany
X-APPLE-STRUCTURED-LOCATION;VALUE=URI;X-ADDRESS=Moosdorfstraße 7-9\, Berli
 n\, 12435\, Germany;X-APPLE-RADIUS=100;X-TITLE=Moos Space:geo:0,0
END:VEVENT
END:VCALENDAR