BEGIN:VCALENDAR
VERSION:2.0
PRODID:-//wp-events-plugin.com//6.6.4.4//EN
TZID:Europe/Berlin
X-WR-TIMEZONE:Europe/Berlin
BEGIN:VEVENT
UID:21@in.cosyland.org
DTSTART:20240619T200000Z
DTEND:20240619T220000Z
DTSTAMP:20240619T105223Z
URL:https://in.cosyland.org/events/from-freedom-to-love/
SUMMARY:From Freedom To Love
DESCRIPTION:From Freedom to Love\nSinging and Praying Circles with Gal Klei
 n- Spring series.\n\nCircle VII- Manifestation\nSpecial guest-Gilad Margal
 it- Piano\n\nWEDNESDAY 19 JUNE\, 20:00-22:00. (19:40- Qigong warmup for op
 ening the body &amp\; spirit ).\n\nYou’re warmly invited to join us for 
 the last singing circle of the spring series to complete the cycle!\n~&lt\
 ;~&lt\;~&lt\;~&lt\;~&lt\;~\nFrom Freedom to Love- A seven weeks singing ex
 ploration inspired by the blossoming spring and the wisdom of the ancient 
 Hebrew calendar.\n\nIn each circle we’ll gather for a time of mutual sin
 ging and free expression and let our voices lead us closer to our heart 
 🫀🎶\n\nGenezarethkirche\, Herrfurthplatz 14\, 12049 Berlin.\n\n@start
 _bahn\n\nEntry is donation based.\n\nFB event- https://shorturl.at/bLY57
ATTACH;FMTTYPE=image/jpeg:https://in.cosyland.org/wp-content/uploads/2024/
 06/photo_2024-06-19_12-52-01.jpg
CATEGORIES:Workshop
LOCATION:Genezarenthkirche\, Herrfurthplatz 14\, Berlin\, 12049\, Germany
X-APPLE-STRUCTURED-LOCATION;VALUE=URI;X-ADDRESS=Herrfurthplatz 14\, Berlin\
 , 12049\, Germany;X-APPLE-RADIUS=100;X-TITLE=Genezarenthkirche:geo:0,0
END:VEVENT
END:VCALENDAR