BEGIN:VCALENDAR
VERSION:2.0
PRODID:-//wp-events-plugin.com//6.6.4.4//EN
TZID:Europe/Berlin
X-WR-TIMEZONE:Europe/Berlin
BEGIN:VEVENT
UID:35@in.cosyland.org
DTSTART:20240720T140000Z
DTEND:20240720T190000Z
DTSTAMP:20240715T141113Z
URL:https://in.cosyland.org/events/from-dangerous-to-devoted-intimatly-con
 cious-relating-admist-an-unconcious-world/
SUMMARY:FROM DANGEROUS TO DEVOTED intimatly concious relating admist an unc
 oncious world
DESCRIPTION:FROM DANGEROUS TO DEVOTED\nintimatly concious relating admist a
 n unconcious world\njuly 20th 2:00-7:00 pm\nIn this workshop we will flow 
 through five waves with philosophic discourses\, somatic movement\, yoga a
 nd dance. These waves are as follows:\n⭕️\n1. Slow &amp\; Sweet: Touch
 ing the Subtle Divine\n2. Finding Still Point: Meditation &amp\; Contempla
 tion\n3. Deep into Self: Flow from Passivity to Conscious Choice\n4. Relat
 ional Alchemy: from Self into Deep Devotion of other\n5. Embodied Flow: Fi
 nding the Godhead in Trance States of Dance\n⭕️\n5 hours\n5 waves\n55 
 Euros\n⭕️\nYou can buy tickets here\, limited spaces available.\nhttps
 ://buy.stripe.com/28o7ubgio9yD9G0aFi\n⭕️\nFor more information on the 
 myself\, Echo\, as a facilitator and alike offerings\, visit www.echoflowy
 oga.com.\nThe Adress:\nColibri Körperarbeit\nYoga Studio\nKarl-Marx-Stra
 ße 149\,\n12043 Berlin\nWith love\,\n🙏🏽❤️ 🙏🏽\nEcho
ATTACH;FMTTYPE=image/jpeg:https://in.cosyland.org/wp-content/uploads/2024/
 07/2024-07-15-16.10.44.jpg
CATEGORIES:Body Work,Dance,Music,Workshop,Yoga
LOCATION:Colibri Körperarbeit\, Karl-Marx-Straße 149\, Berlin\, Germany
X-APPLE-STRUCTURED-LOCATION;VALUE=URI;X-ADDRESS=Karl-Marx-Straße 149\, Ber
 lin\, Germany;X-APPLE-RADIUS=100;X-TITLE=Colibri Körperarbeit:geo:0,0
END:VEVENT
END:VCALENDAR