BEGIN:VCALENDAR
VERSION:2.0
PRODID:-//wp-events-plugin.com//6.6.4.4//EN
TZID:Europe/Berlin
X-WR-TIMEZONE:Europe/Berlin
BEGIN:VEVENT
UID:2@in.cosyland.org
DTSTART:20240303T180000Z
DTEND:20240303T210000Z
DTSTAMP:20240224T140204Z
URL:https://in.cosyland.org/events/cosyland-birth-ritual/
SUMMARY:Cosyland Creation Ritual
DESCRIPTION:Join us to create Cosyland at Moos Berlin. During the event\, w
 e will dive deeper into the dream of what Cosyland can become and what eac
 h of us would wish it to be. \n\nWe will also take space to connect and bu
 ild trust among us who are there. And we will reflect on what we need to m
 ake sure this trust is preserved when more people arrive in Cosyland.
ATTACH;FMTTYPE=image/jpeg:https://in.cosyland.org/wp-content/uploads/2024/
 02/Cosyland-map.jpg
CATEGORIES:Ceremony
LOCATION:Moos Berlin\, Moosdorfstraße 7-9\, Berlin\, Germany
X-APPLE-STRUCTURED-LOCATION;VALUE=URI;X-ADDRESS=Moosdorfstraße 7-9\, Berli
 n\, Germany;X-APPLE-RADIUS=100;X-TITLE=Moos Berlin:geo:0,0
END:VEVENT
END:VCALENDAR