BEGIN:VCALENDAR
VERSION:2.0
PRODID:-//wp-events-plugin.com//6.6.4.4//EN
TZID:Europe/Berlin
X-WR-TIMEZONE:Europe/Berlin
BEGIN:VEVENT
UID:122@in.cosyland.org
DTSTART;TZID=Europe/Berlin:20240808T183000
DTEND;TZID=Europe/Berlin:20240808T220000
DTSTAMP:20240801T170455Z
URL:https://in.cosyland.org/events/888-portal-manifestation-activation-on-
 lions-gate/
SUMMARY:888 Portal - Manifestation Activation on Lion\\'s Gate
DESCRIPTION:MANIFESTATION ACTIVATION - Lions Gate and 888\nThis number magi
 c will only be available again on 08/08/2033 (with the twos and fours and 
 eights but far more powerful !!!)\nREICHUM - your realm\, you are the kin
 g\, the queen of your realm. How are you running your country? Are all are
 as doing well? Which ones are you suppressing? Which ones do you praise?\n
 FULLNESS - what is there a lot of in your life? Does it make you happy? Th
 ere can also be an abundance of emptiness and stagnation. This also makes 
 you rich\, just rich in emptiness and stagnation.So how can we link wealth
  and abundance to your happiness?\nHAPPINESS - is the measure of the self-
 responsibility you are willing to live.Only in this way can you begin to c
 reate what will ultimately make you happy and\, along the way\, accept eve
 rything with surrender and humility as a result of what you have manifeste
 d into space at some point\, otherwise it would not be there.\nOn this day
 \, the stars are in full support\; all the lion power to remember your sel
 f-worth\, your inner king\, your inner queen. And to take that place. Espe
 cially if you lack self-worth\, if you don't believe in yourself enough\, 
 but also if you have big dreams and visions and don't know how to realize 
 them or simply want to support these dreams to be perfected in the spiritu
 al world so that they can be grounded\, this evening is ideal for you to d
 ive in.\n\nI look forward to going on a journey with you\, exploring your 
 deeper desires\, giving them space\, seeing what it takes to go for it\, w
 hat needs to be left behind and making a commitment to yourself. What impa
 ct does this have on the community and society? Your value is the added va
 lue for the greater whole.\n\nWe will open the heart spaces with Cacao\, I
  will lead you into your depths\, we will bring this into embodiment with 
 movement and dance and I will support this cellularly with the gong to int
 egrate and release with the healing frequencies what is still stagnant unt
 il then.\n\nI am looking forward to a powerful evening of connection. Espe
 cially with yourself and recognizing what your contribution is to the grea
 ter whole. In this way we create a balance\, in this way we let the light 
 win\, in this way we use all the power that is available to us on this day
  with the number power of 08/08/2024 - 888 and the Lion Gate.\nYou will fi
 nd the entrance via the backyard. Walk to the end and go through the open 
 door.\n\nCompensation 44€\n\nRegister at praxis@danastechow.de or write 
 to me privately here.I need the registrations especially for the Cacao ass
 essment
ATTACH;FMTTYPE=image/jpeg:https://in.cosyland.org/wp-content/uploads/2024/
 08/lions-gate.jpeg
CATEGORIES:Ceremony,Dance,Meditation
LOCATION:Moos Berlin\, Moosdorfstraße 7-9\, Berlin\, Germany
X-APPLE-STRUCTURED-LOCATION;VALUE=URI;X-ADDRESS=Moosdorfstraße 7-9\, Berli
 n\, Germany;X-APPLE-RADIUS=100;X-TITLE=Moos Berlin:geo:0,0
END:VEVENT
BEGIN:VTIMEZONE
TZID:Europe/Berlin
X-LIC-LOCATION:Europe/Berlin
BEGIN:DAYLIGHT
DTSTART:20240331T030000
TZOFFSETFROM:+0100
TZOFFSETTO:+0200
TZNAME:CEST
END:DAYLIGHT
END:VTIMEZONE
END:VCALENDAR